BEGIN:VCALENDAR
VERSION:2.0
PRODID:-//dioceseofbrandon.org - ECPv6.15.20//NONSGML v1.0//EN
CALSCALE:GREGORIAN
METHOD:PUBLISH
X-WR-CALNAME:dioceseofbrandon.org
X-ORIGINAL-URL:https://dioceseofbrandon.org
X-WR-CALDESC:Events for dioceseofbrandon.org
REFRESH-INTERVAL;VALUE=DURATION:PT1H
X-Robots-Tag:noindex
X-PUBLISHED-TTL:PT1H
BEGIN:VTIMEZONE
TZID:UTC
BEGIN:STANDARD
TZOFFSETFROM:+0000
TZOFFSETTO:+0000
TZNAME:UTC
DTSTART:20290101T000000
END:STANDARD
END:VTIMEZONE
BEGIN:VTIMEZONE
TZID:America/Winnipeg
BEGIN:DAYLIGHT
TZOFFSETFROM:-0600
TZOFFSETTO:-0500
TZNAME:CDT
DTSTART:20290311T080000
END:DAYLIGHT
BEGIN:STANDARD
TZOFFSETFROM:-0500
TZOFFSETTO:-0600
TZNAME:CST
DTSTART:20291104T070000
END:STANDARD
BEGIN:DAYLIGHT
TZOFFSETFROM:-0600
TZOFFSETTO:-0500
TZNAME:CDT
DTSTART:20300310T080000
END:DAYLIGHT
BEGIN:STANDARD
TZOFFSETFROM:-0500
TZOFFSETTO:-0600
TZNAME:CST
DTSTART:20301103T070000
END:STANDARD
BEGIN:DAYLIGHT
TZOFFSETFROM:-0600
TZOFFSETTO:-0500
TZNAME:CDT
DTSTART:20310309T080000
END:DAYLIGHT
BEGIN:STANDARD
TZOFFSETFROM:-0500
TZOFFSETTO:-0600
TZNAME:CST
DTSTART:20311102T070000
END:STANDARD
END:VTIMEZONE
BEGIN:VEVENT
DTSTART;TZID=UTC:20301101T103000
DTEND;TZID=UTC:20301101T120000
DTSTAMP:20260424T212024
CREATED:20260314T044808Z
LAST-MODIFIED:20260314T050924Z
UID:10000596-1919759400-1919764800@dioceseofbrandon.org
SUMMARY:Bible Study - Brandon\, St. Matthew's Cathedral
DESCRIPTION:Brandon\, St. Matthew’s Cathedral:\n    Bible Study\, Friday\, 10:30 a.m.
URL:https://dioceseofbrandon.org/event/bible-study-brandon-st-matthews-cathedral/2030-11-01/
LOCATION:St. Matthew’s Cathedral\, 403 13th St\, Brandon\, Manitoba\, R7A 4P9\, Canada
END:VEVENT
BEGIN:VEVENT
DTSTART;TZID=UTC:20301103T100000
DTEND;TZID=UTC:20301103T120000
DTSTAMP:20260424T212024
CREATED:20260314T044127Z
LAST-MODIFIED:20260314T050836Z
UID:10000335-1919930400-1919937600@dioceseofbrandon.org
SUMMARY:Holy Eucharist Service - Brandon\, St. Matthew's Cathedral
DESCRIPTION:Brandon\, St. Matthew’s Cathedral:\n    Holy Eucharist Service\, Sunday\, 10 a.m.
URL:https://dioceseofbrandon.org/event/eucharist-service-brandon-st-matthews-cathedral/2030-11-03/
LOCATION:St. Matthew’s Cathedral\, 403 13th St\, Brandon\, Manitoba\, R7A 4P9\, Canada
END:VEVENT
BEGIN:VEVENT
DTSTART;TZID=America/Winnipeg:20301103T110000
DTEND;TZID=America/Winnipeg:20301103T130000
DTSTAMP:20260424T212024
CREATED:20251204T202740Z
LAST-MODIFIED:20251204T202740Z
UID:10000084-1919934000-1919941200@dioceseofbrandon.org
SUMMARY:Holy Eucharist - Minnedosa
DESCRIPTION:Holy Eucharist – 1st Sunday of the month
URL:https://dioceseofbrandon.org/event/holy-eucharist-minnedosa/2030-11-03/
LOCATION:St. Mark’s\, Minnedosa\, 108 2nd Ave SW\, Minnedosa\, MB\, Canada
END:VEVENT
BEGIN:VEVENT
DTSTART;TZID=UTC:20301106T100000
DTEND;TZID=UTC:20301106T120000
DTSTAMP:20260424T212024
CREATED:20260319T020630Z
LAST-MODIFIED:20260319T020630Z
UID:10000859-1920189600-1920196800@dioceseofbrandon.org
SUMMARY:Eucharist
DESCRIPTION:10 a.m. Brandon\, St. Mary’s Eucharist \n11 a.m. Neepawa\, Neepawa United-Anglican Shared Ministry (NUASM) Eucharist \n12 noon Brandon\, St. Matthew’s Cathedral Eucharist
URL:https://dioceseofbrandon.org/event/eucharist/2030-11-06/
END:VEVENT
BEGIN:VEVENT
DTSTART;TZID=UTC:20301108T103000
DTEND;TZID=UTC:20301108T120000
DTSTAMP:20260424T212024
CREATED:20260314T044808Z
LAST-MODIFIED:20260314T050924Z
UID:10000597-1920364200-1920369600@dioceseofbrandon.org
SUMMARY:Bible Study - Brandon\, St. Matthew's Cathedral
DESCRIPTION:Brandon\, St. Matthew’s Cathedral:\n    Bible Study\, Friday\, 10:30 a.m.
URL:https://dioceseofbrandon.org/event/bible-study-brandon-st-matthews-cathedral/2030-11-08/
LOCATION:St. Matthew’s Cathedral\, 403 13th St\, Brandon\, Manitoba\, R7A 4P9\, Canada
END:VEVENT
BEGIN:VEVENT
DTSTART;TZID=UTC:20301110T100000
DTEND;TZID=UTC:20301110T120000
DTSTAMP:20260424T212024
CREATED:20260314T044127Z
LAST-MODIFIED:20260314T050836Z
UID:10000336-1920535200-1920542400@dioceseofbrandon.org
SUMMARY:Holy Eucharist Service - Brandon\, St. Matthew's Cathedral
DESCRIPTION:Brandon\, St. Matthew’s Cathedral:\n    Holy Eucharist Service\, Sunday\, 10 a.m.
URL:https://dioceseofbrandon.org/event/eucharist-service-brandon-st-matthews-cathedral/2030-11-10/
LOCATION:St. Matthew’s Cathedral\, 403 13th St\, Brandon\, Manitoba\, R7A 4P9\, Canada
END:VEVENT
BEGIN:VEVENT
DTSTART;TZID=UTC:20301113T100000
DTEND;TZID=UTC:20301113T120000
DTSTAMP:20260424T212024
CREATED:20260319T020630Z
LAST-MODIFIED:20260319T020630Z
UID:10000860-1920794400-1920801600@dioceseofbrandon.org
SUMMARY:Eucharist
DESCRIPTION:10 a.m. Brandon\, St. Mary’s Eucharist \n11 a.m. Neepawa\, Neepawa United-Anglican Shared Ministry (NUASM) Eucharist \n12 noon Brandon\, St. Matthew’s Cathedral Eucharist
URL:https://dioceseofbrandon.org/event/eucharist/2030-11-13/
END:VEVENT
BEGIN:VEVENT
DTSTART;TZID=UTC:20301115T103000
DTEND;TZID=UTC:20301115T120000
DTSTAMP:20260424T212024
CREATED:20260314T044808Z
LAST-MODIFIED:20260314T050924Z
UID:10000598-1920969000-1920974400@dioceseofbrandon.org
SUMMARY:Bible Study - Brandon\, St. Matthew's Cathedral
DESCRIPTION:Brandon\, St. Matthew’s Cathedral:\n    Bible Study\, Friday\, 10:30 a.m.
URL:https://dioceseofbrandon.org/event/bible-study-brandon-st-matthews-cathedral/2030-11-15/
LOCATION:St. Matthew’s Cathedral\, 403 13th St\, Brandon\, Manitoba\, R7A 4P9\, Canada
END:VEVENT
BEGIN:VEVENT
DTSTART;TZID=UTC:20301117T100000
DTEND;TZID=UTC:20301117T120000
DTSTAMP:20260424T212024
CREATED:20260314T044127Z
LAST-MODIFIED:20260314T050836Z
UID:10000337-1921140000-1921147200@dioceseofbrandon.org
SUMMARY:Holy Eucharist Service - Brandon\, St. Matthew's Cathedral
DESCRIPTION:Brandon\, St. Matthew’s Cathedral:\n    Holy Eucharist Service\, Sunday\, 10 a.m.
URL:https://dioceseofbrandon.org/event/eucharist-service-brandon-st-matthews-cathedral/2030-11-17/
LOCATION:St. Matthew’s Cathedral\, 403 13th St\, Brandon\, Manitoba\, R7A 4P9\, Canada
END:VEVENT
BEGIN:VEVENT
DTSTART;TZID=UTC:20301120T100000
DTEND;TZID=UTC:20301120T120000
DTSTAMP:20260424T212024
CREATED:20260319T020630Z
LAST-MODIFIED:20260319T020630Z
UID:10000861-1921399200-1921406400@dioceseofbrandon.org
SUMMARY:Eucharist
DESCRIPTION:10 a.m. Brandon\, St. Mary’s Eucharist \n11 a.m. Neepawa\, Neepawa United-Anglican Shared Ministry (NUASM) Eucharist \n12 noon Brandon\, St. Matthew’s Cathedral Eucharist
URL:https://dioceseofbrandon.org/event/eucharist/2030-11-20/
END:VEVENT
BEGIN:VEVENT
DTSTART;TZID=UTC:20301122T103000
DTEND;TZID=UTC:20301122T120000
DTSTAMP:20260424T212024
CREATED:20260314T044808Z
LAST-MODIFIED:20260314T050924Z
UID:10000599-1921573800-1921579200@dioceseofbrandon.org
SUMMARY:Bible Study - Brandon\, St. Matthew's Cathedral
DESCRIPTION:Brandon\, St. Matthew’s Cathedral:\n    Bible Study\, Friday\, 10:30 a.m.
URL:https://dioceseofbrandon.org/event/bible-study-brandon-st-matthews-cathedral/2030-11-22/
LOCATION:St. Matthew’s Cathedral\, 403 13th St\, Brandon\, Manitoba\, R7A 4P9\, Canada
END:VEVENT
BEGIN:VEVENT
DTSTART;TZID=UTC:20301124T100000
DTEND;TZID=UTC:20301124T120000
DTSTAMP:20260424T212024
CREATED:20260314T044127Z
LAST-MODIFIED:20260314T050836Z
UID:10000338-1921744800-1921752000@dioceseofbrandon.org
SUMMARY:Holy Eucharist Service - Brandon\, St. Matthew's Cathedral
DESCRIPTION:Brandon\, St. Matthew’s Cathedral:\n    Holy Eucharist Service\, Sunday\, 10 a.m.
URL:https://dioceseofbrandon.org/event/eucharist-service-brandon-st-matthews-cathedral/2030-11-24/
LOCATION:St. Matthew’s Cathedral\, 403 13th St\, Brandon\, Manitoba\, R7A 4P9\, Canada
END:VEVENT
BEGIN:VEVENT
DTSTART;TZID=UTC:20301127T100000
DTEND;TZID=UTC:20301127T120000
DTSTAMP:20260424T212024
CREATED:20260319T020630Z
LAST-MODIFIED:20260319T020630Z
UID:10000862-1922004000-1922011200@dioceseofbrandon.org
SUMMARY:Eucharist
DESCRIPTION:10 a.m. Brandon\, St. Mary’s Eucharist \n11 a.m. Neepawa\, Neepawa United-Anglican Shared Ministry (NUASM) Eucharist \n12 noon Brandon\, St. Matthew’s Cathedral Eucharist
URL:https://dioceseofbrandon.org/event/eucharist/2030-11-27/
END:VEVENT
BEGIN:VEVENT
DTSTART;TZID=UTC:20301129T103000
DTEND;TZID=UTC:20301129T120000
DTSTAMP:20260424T212024
CREATED:20260314T044808Z
LAST-MODIFIED:20260314T050924Z
UID:10000600-1922178600-1922184000@dioceseofbrandon.org
SUMMARY:Bible Study - Brandon\, St. Matthew's Cathedral
DESCRIPTION:Brandon\, St. Matthew’s Cathedral:\n    Bible Study\, Friday\, 10:30 a.m.
URL:https://dioceseofbrandon.org/event/bible-study-brandon-st-matthews-cathedral/2030-11-29/
LOCATION:St. Matthew’s Cathedral\, 403 13th St\, Brandon\, Manitoba\, R7A 4P9\, Canada
END:VEVENT
END:VCALENDAR