BEGIN:VCALENDAR
VERSION:2.0
PRODID:-//dioceseofbrandon.org - ECPv6.15.20//NONSGML v1.0//EN
CALSCALE:GREGORIAN
METHOD:PUBLISH
X-ORIGINAL-URL:https://dioceseofbrandon.org
X-WR-CALDESC:Events for dioceseofbrandon.org
REFRESH-INTERVAL;VALUE=DURATION:PT1H
X-Robots-Tag:noindex
X-PUBLISHED-TTL:PT1H
BEGIN:VTIMEZONE
TZID:UTC
BEGIN:STANDARD
TZOFFSETFROM:+0000
TZOFFSETTO:+0000
TZNAME:UTC
DTSTART:20280101T000000
END:STANDARD
END:VTIMEZONE
BEGIN:VEVENT
DTSTART;TZID=UTC:20290902T100000
DTEND;TZID=UTC:20290902T120000
DTSTAMP:20260422T045813
CREATED:20260314T044127Z
LAST-MODIFIED:20260314T050836Z
UID:10000274-1883037600-1883044800@dioceseofbrandon.org
SUMMARY:Holy Eucharist Service - Brandon\, St. Matthew's Cathedral
DESCRIPTION:Brandon\, St. Matthew’s Cathedral:\n    Holy Eucharist Service\, Sunday\, 10 a.m.
URL:https://dioceseofbrandon.org/event/eucharist-service-brandon-st-matthews-cathedral/2029-09-02/
LOCATION:St. Matthew’s Cathedral\, 403 13th St\, Brandon\, Manitoba\, R7A 4P9\, Canada
END:VEVENT
BEGIN:VEVENT
DTSTART;TZID=UTC:20290909T100000
DTEND;TZID=UTC:20290909T120000
DTSTAMP:20260422T045813
CREATED:20260314T044127Z
LAST-MODIFIED:20260314T050836Z
UID:10000275-1883642400-1883649600@dioceseofbrandon.org
SUMMARY:Holy Eucharist Service - Brandon\, St. Matthew's Cathedral
DESCRIPTION:Brandon\, St. Matthew’s Cathedral:\n    Holy Eucharist Service\, Sunday\, 10 a.m.
URL:https://dioceseofbrandon.org/event/eucharist-service-brandon-st-matthews-cathedral/2029-09-09/
LOCATION:St. Matthew’s Cathedral\, 403 13th St\, Brandon\, Manitoba\, R7A 4P9\, Canada
END:VEVENT
BEGIN:VEVENT
DTSTART;TZID=UTC:20290916T100000
DTEND;TZID=UTC:20290916T120000
DTSTAMP:20260422T045813
CREATED:20260314T044127Z
LAST-MODIFIED:20260314T050836Z
UID:10000276-1884247200-1884254400@dioceseofbrandon.org
SUMMARY:Holy Eucharist Service - Brandon\, St. Matthew's Cathedral
DESCRIPTION:Brandon\, St. Matthew’s Cathedral:\n    Holy Eucharist Service\, Sunday\, 10 a.m.
URL:https://dioceseofbrandon.org/event/eucharist-service-brandon-st-matthews-cathedral/2029-09-16/
LOCATION:St. Matthew’s Cathedral\, 403 13th St\, Brandon\, Manitoba\, R7A 4P9\, Canada
END:VEVENT
BEGIN:VEVENT
DTSTART;TZID=UTC:20290923T100000
DTEND;TZID=UTC:20290923T120000
DTSTAMP:20260422T045813
CREATED:20260314T044127Z
LAST-MODIFIED:20260314T050836Z
UID:10000277-1884852000-1884859200@dioceseofbrandon.org
SUMMARY:Holy Eucharist Service - Brandon\, St. Matthew's Cathedral
DESCRIPTION:Brandon\, St. Matthew’s Cathedral:\n    Holy Eucharist Service\, Sunday\, 10 a.m.
URL:https://dioceseofbrandon.org/event/eucharist-service-brandon-st-matthews-cathedral/2029-09-23/
LOCATION:St. Matthew’s Cathedral\, 403 13th St\, Brandon\, Manitoba\, R7A 4P9\, Canada
END:VEVENT
BEGIN:VEVENT
DTSTART;TZID=UTC:20290930T100000
DTEND;TZID=UTC:20290930T120000
DTSTAMP:20260422T045813
CREATED:20260314T044127Z
LAST-MODIFIED:20260314T050836Z
UID:10000278-1885456800-1885464000@dioceseofbrandon.org
SUMMARY:Holy Eucharist Service - Brandon\, St. Matthew's Cathedral
DESCRIPTION:Brandon\, St. Matthew’s Cathedral:\n    Holy Eucharist Service\, Sunday\, 10 a.m.
URL:https://dioceseofbrandon.org/event/eucharist-service-brandon-st-matthews-cathedral/2029-09-30/
LOCATION:St. Matthew’s Cathedral\, 403 13th St\, Brandon\, Manitoba\, R7A 4P9\, Canada
END:VEVENT
END:VCALENDAR